BEGIN:VCALENDAR
VERSION:2.0
PRODID:-//United Imaging - ECPv6.15.20//NONSGML v1.0//EN
CALSCALE:GREGORIAN
METHOD:PUBLISH
X-WR-CALNAME:United Imaging
X-ORIGINAL-URL:https://unitedimaging.biz
X-WR-CALDESC:Events for United Imaging
REFRESH-INTERVAL;VALUE=DURATION:PT1H
X-Robots-Tag:noindex
X-PUBLISHED-TTL:PT1H
BEGIN:VTIMEZONE
TZID:America/Los_Angeles
BEGIN:DAYLIGHT
TZOFFSETFROM:-0800
TZOFFSETTO:-0700
TZNAME:PDT
DTSTART:20190310T100000
END:DAYLIGHT
BEGIN:STANDARD
TZOFFSETFROM:-0700
TZOFFSETTO:-0800
TZNAME:PST
DTSTART:20191103T090000
END:STANDARD
BEGIN:DAYLIGHT
TZOFFSETFROM:-0800
TZOFFSETTO:-0700
TZNAME:PDT
DTSTART:20200308T100000
END:DAYLIGHT
BEGIN:STANDARD
TZOFFSETFROM:-0700
TZOFFSETTO:-0800
TZNAME:PST
DTSTART:20201101T090000
END:STANDARD
BEGIN:DAYLIGHT
TZOFFSETFROM:-0800
TZOFFSETTO:-0700
TZNAME:PDT
DTSTART:20210314T100000
END:DAYLIGHT
BEGIN:STANDARD
TZOFFSETFROM:-0700
TZOFFSETTO:-0800
TZNAME:PST
DTSTART:20211107T090000
END:STANDARD
END:VTIMEZONE
BEGIN:VEVENT
DTSTART;TZID=America/Los_Angeles:20201216T080000
DTEND;TZID=America/Los_Angeles:20201216T170000
DTSTAMP:20260424T135353
CREATED:20200128T222840Z
LAST-MODIFIED:20200128T222958Z
UID:35293-1608105600-1608138000@unitedimaging.biz
SUMMARY:December Docuware Webinar Series
DESCRIPTION:Sign up for the December DocuWare Webinar Series.  \nA monthly series exploring the latest in Document and File Management Software Trends. \nWith DocuWare\, you enjoy: \n\nA secure\, central document pool for all documents regardless of source or format\nIncreased employee efficiency and productivity with instant access to information\nAutomated digital workflows to route and process documents across multiple departments\nFirst-class document compliance and fast response to audits\n\nCan’t make it?\nRegister anyway to get sent a recording. \nReady to learn more now? \nContact United Imaging for a FREE Docuware Demo or more information.
URL:https://unitedimaging.biz/event/december-docuware-webinar-series/
CATEGORIES:Docuware,Webinar
ATTACH;FMTTYPE=image/jpeg:https://unitedimaging.biz/wp-content/uploads/2020/01/business-couple-discussing-docuware-on-an-ipad-scaled.jpg
END:VEVENT
BEGIN:VEVENT
DTSTART;TZID=America/Los_Angeles:20201118T080000
DTEND;TZID=America/Los_Angeles:20201118T170000
DTSTAMP:20260424T135353
CREATED:20200128T222624Z
LAST-MODIFIED:20200128T222711Z
UID:35288-1605686400-1605718800@unitedimaging.biz
SUMMARY:November Docuware Webinar Series
DESCRIPTION:Sign up for the November Docuware Webinar Series. A monthly series exploring the latest in Document Management Trends and Software. \nWith DocuWare\, you enjoy: \n\nA secure\, central document pool for all documents regardless of source or format\nIncreased employee efficiency and productivity with instant access to information\nAutomated digital workflows to route and process documents across multiple departments\nFirst-class document compliance and fast response to audits\n\nCan’t make it?\nRegister anyway to get sent a recording. \nReady to learn more now? \nContact United Imaging for a FREE Docuware Demo or more information.
URL:https://unitedimaging.biz/event/november-docuware-webinar-series/
CATEGORIES:Docuware,Webinar
ATTACH;FMTTYPE=image/jpeg:https://unitedimaging.biz/wp-content/uploads/2020/01/gdpr-guy-scaled.jpg
END:VEVENT
BEGIN:VEVENT
DTSTART;TZID=America/Los_Angeles:20201029T110000
DTEND;TZID=America/Los_Angeles:20201029T120000
DTSTAMP:20260424T135353
CREATED:20200128T221240Z
LAST-MODIFIED:20200128T222549Z
UID:35284-1603969200-1603972800@unitedimaging.biz
SUMMARY:October Docuware Webinar Series
DESCRIPTION:Sign up for the October Webinar Series.  \nA monthly series exploring the latest in Document Management Trends and Software. \nWith DocuWare\, you enjoy: \n\nA secure\, central document pool for all documents regardless of source or format\nIncreased employee efficiency and productivity with instant access to information\nAutomated digital workflows to route and process documents across multiple departments\nFirst-class document compliance and fast response to audits\n\nCan’t make it?\nRegister anyway to get sent a recording. \nReady to learn more now? \nContact United Imaging for a FREE Docuware Demo or more information.
URL:https://unitedimaging.biz/event/october-docuware-webinar-series/
CATEGORIES:Docuware,Webinar
ATTACH;FMTTYPE=image/jpeg:https://unitedimaging.biz/wp-content/uploads/2020/01/Capture-e1589828749598.jpg
END:VEVENT
BEGIN:VEVENT
DTSTART;TZID=America/Los_Angeles:20200923T110000
DTEND;TZID=America/Los_Angeles:20200923T120000
DTSTAMP:20260424T135353
CREATED:20200128T220805Z
LAST-MODIFIED:20200128T220805Z
UID:35281-1600858800-1600862400@unitedimaging.biz
SUMMARY:September Docuware Webinar Series
DESCRIPTION:Sign up for the September Docuware Webinar Series. A monthly series exploring the latest in Document Management Trends and Software. \nWith DocuWare\, you enjoy: \n\nA secure\, central document pool for all documents regardless of source or format\nIncreased employee efficiency and productivity with instant access to information\nAutomated digital workflows to route and process documents across multiple departments\nFirst-class document compliance and fast response to audits\n\nCan’t make it?\nRegister anyway to get sent a recording. \nReady to learn more now? \nContact United Imaging for a FREE Docuware Demo or more information.
URL:https://unitedimaging.biz/event/september-docuware-webinar-series/
CATEGORIES:Docuware,Webinar
ATTACH;FMTTYPE=image/jpeg:https://unitedimaging.biz/wp-content/uploads/2020/01/finance-and-accounting.jpg
END:VEVENT
BEGIN:VEVENT
DTSTART;TZID=America/Los_Angeles:20200826T110000
DTEND;TZID=America/Los_Angeles:20200826T120000
DTSTAMP:20260424T135353
CREATED:20200128T220422Z
LAST-MODIFIED:20200601T222852Z
UID:35278-1598439600-1598443200@unitedimaging.biz
SUMMARY:August Docuware Webinar Series
DESCRIPTION:Sign up for the August Webinar Series. A monthly series exploring the latest in Document Management Trends and Software. \nWith DocuWare\, you enjoy: \n\nA secure\, central document pool for all documents regardless of source or format\nIncreased employee efficiency and productivity with instant access to information\nAutomated digital workflows to route and process documents across multiple departments\nFirst-class document compliance and fast response to audits\n\nCan’t make it?\nRegister anyway to get sent a recording. \nReady to learn more now? \nContact United Imaging for a FREE Docuware Demo or more information.
URL:https://unitedimaging.biz/event/august-docuware-webinar-series/
CATEGORIES:Docuware,Webinar
ATTACH;FMTTYPE=image/jpeg:https://unitedimaging.biz/wp-content/uploads/2020/01/cloud-in-a-nutshell-2.jpg
END:VEVENT
BEGIN:VEVENT
DTSTART;TZID=America/Los_Angeles:20200728T110000
DTEND;TZID=America/Los_Angeles:20200728T113000
DTSTAMP:20260424T135353
CREATED:20200128T220001Z
LAST-MODIFIED:20200709T181110Z
UID:35272-1595934000-1595935800@unitedimaging.biz
SUMMARY:Join us for Docuware's Webinar How to simplify and automate AP processes for a remote team in just days with DocuWare’s invoice processing solution
DESCRIPTION:Sign up for the July Docuware Webinar Series. \nREGISTER HERE \nWrite: United Imaging \nIn the “Name of Authorized DocuWare Partner and their City/State” refer field. \nHow to simplify and automate AP processes for a remote team in just days with DocuWare’s invoice processing solution \n\n\n\nTue\, Jul 28\, 2020 11:00 AM – 11:45 AM PDT \n\n\n\n\n\n\nYour accounting department may not be all in one office anymore and the paper documents you need might be sitting in the office\, bringing processes to a standstill. How can you jumpstart work again and ensure operations run smoothly going forward? If you’ve considered looking into an automated invoice processing solution before\, now’s the time to dive head-first. We make it easy to get up and running in just days. Start processing invoices right away\, regardless of location. DocuWare for Invoice Processing completely automates your entire invoice processing\, from data capture to approval and provides the capability to post invoices to your accounting or ERP system. This cloud-based solution securely stores all your documents with easy access and comes pre-built with the AP workflows that you need to get work done. Eliminate manual steps and refocus your team on profit-driving projects. Register now to see a zero-obligation\, no-pressure introduction to DocuWare for Invoice Processing in a 45-minute webinar. Picture this for your team when you use invoice approval software: • Get up and running in just days as you move invoice processing to the cloud \n• Maintain a secure\, organized\, and searchable invoice repository for stress-free audit support and budget planning \n• Automatically capture and match invoices to purchase orders \n• Use easily configurable workflows to manage the approval process \n• Review and approve via any mobile device \n• Record approved payments back to the general ledger through seamless ERP integrations \n• Integrate with your native financial applications\n\n\nDocuware Webinar Series is a monthly series exploring the latest in Document and File Management Software Trends. \nWith DocuWare\, you enjoy: \n\nA secure\, central document pool for all documents regardless of source or format\nIncreased employee efficiency and productivity with instant access to information\nAutomated digital workflows to route and process documents across multiple departments\nFirst-class document compliance and fast response to audits\n\nCan’t make it?\nRegister anyway to get sent a recording. \nReady to learn more now? \nContact United Imaging for a FREE Docuware Demo or more information.
URL:https://unitedimaging.biz/event/july-docuware-webinar-series/
CATEGORIES:Docuware,Webinar
ATTACH;FMTTYPE=image/jpeg:https://unitedimaging.biz/wp-content/uploads/2020/01/woman-in-flannel-on-laptop-scaled-e1580248777967.jpg
END:VEVENT
BEGIN:VEVENT
DTSTART;TZID=America/Los_Angeles:20200630T110000
DTEND;TZID=America/Los_Angeles:20200630T120000
DTSTAMP:20260424T135353
CREATED:20200128T211956Z
LAST-MODIFIED:20200128T213211Z
UID:35267-1593514800-1593518400@unitedimaging.biz
SUMMARY:Docuware June Webinar Series
DESCRIPTION:Sign up for the June Webinar Series. A monthly series exploring the latest in Document Management Trends and Software. \nWith DocuWare\, you enjoy: \n\nA secure\, central document pool for all documents regardless of source or format\nIncreased employee efficiency and productivity with instant access to information\nAutomated digital workflows to route and process documents across multiple departments\nFirst-class document compliance and fast response to audits\n\nCan’t make it?\nRegister anyway to get sent a recording. \nReady to learn more now? \nContact United Imaging for a FREE Docuware Demo or more information.
URL:https://unitedimaging.biz/event/docuware-june-webinar-series/
CATEGORIES:Docuware,Webinar
ATTACH;FMTTYPE=image/jpeg:https://unitedimaging.biz/wp-content/uploads/2020/01/laptop_with_invoice.jpg
ORGANIZER;CN="United Imaging":MAILTO:document@unitedimaging.com
END:VEVENT
BEGIN:VEVENT
DTSTART;VALUE=DATE:20200520
DTEND;VALUE=DATE:20200522
DTSTAMP:20260424T135353
CREATED:20200128T011657Z
LAST-MODIFIED:20200518T195524Z
UID:35227-1589943600-1590029999@unitedimaging.biz
SUMMARY:May Docuware Webinar Series
DESCRIPTION:Sign up for the May Webinar Series. A monthly series exploring the latest in Document Management Trends and Software. \nWith DocuWare\, you enjoy: \n\nA secure\, central document pool for all documents regardless of source or format\nIncreased employee efficiency and productivity with instant access to information\nAutomated digital workflows to route and process documents across multiple departments\nFirst-class document compliance and fast response to audits\n\nCan’t make it?\nRegister anyway to get sent a recording. \nReady to learn more now? \nContact United Imaging for a FREE Docuware Demo or more information.
URL:https://unitedimaging.biz/event/may-docuware-webinar-series/
CATEGORIES:Docuware,Webinar
ATTACH;FMTTYPE=image/jpeg:https://unitedimaging.biz/wp-content/uploads/2020/01/Capture-e1589828749598.jpg
END:VEVENT
BEGIN:VEVENT
DTSTART;VALUE=DATE:20200422
DTEND;VALUE=DATE:20200424
DTSTAMP:20260424T135353
CREATED:20200128T011220Z
LAST-MODIFIED:20200128T011221Z
UID:35224-1587524400-1587610799@unitedimaging.biz
SUMMARY:April Docuware Webinar Series
DESCRIPTION:Sign up for the April Webinar Series. A monthly series exploring the latest in Document Management Trends and Software. \nWith DocuWare\, you enjoy: \n\nA secure\, central document pool for all documents regardless of source or format\nIncreased employee efficiency and productivity with instant access to information\nAutomated digital workflows to route and process documents across multiple departments\nFirst-class document compliance and fast response to audits\n\nCan’t make it?\nRegister anyway to get sent a recording. \nReady to learn more now? \nContact United Imaging for a FREE Docuware Demo or more information.
URL:https://unitedimaging.biz/event/april-docuware-webinar-series/
CATEGORIES:Docuware,Webinar
ATTACH;FMTTYPE=image/jpeg:https://unitedimaging.biz/wp-content/uploads/2020/01/compliance-1.jpg
END:VEVENT
BEGIN:VEVENT
DTSTART;TZID=America/Los_Angeles:20200326T110000
DTEND;TZID=America/Los_Angeles:20200326T113000
DTSTAMP:20260424T135353
CREATED:20200128T010605Z
LAST-MODIFIED:20200302T180821Z
UID:35217-1585220400-1585222200@unitedimaging.biz
SUMMARY:Join us for the Docuware Webinar: How to Speed Up Repetitive\, Multi-Step Processes and Ensure Accuracy with Easy Workflow Automation.
DESCRIPTION:Sign up for the March Webinar Series. \nA monthly series exploring the latest in Document Management Trends and Software. \nReferring Company Type: United Imaging \nWith DocuWare\, you work in a whole new way:  \n\nIncrease productivity across the board using workflow tools that fit into your current IT landscape\nVisually map out the flow and steps of any process so every team member is on the same page\nBuild any type of workflow and set it in motion without the need for programming\nStay on top of tasks with automated task lists and email notifications.\nFree up time to do more strategic work that contributes to long-term success\n\nCan’t make it?\nRegister anyway to get sent a recording.\nReady to learn more now?\nContact United Imaging for a FREE Docuware Demo or more information. \nWe know your key processes can be very manual and slow\, whether they be simply repetitive or highly complex. It’s time to shift away from this and use automated digital workflows to guarantee high-quality work and enjoy more time for other projects that drive your organization forward. Embracing business process automation is key to long-term success\, from maintaining motivated\, productive employees to providing top-notch products and customer service. It’s easier to achieve than you think. DocuWare\, a document management and workflow automation software\, securely stores your organization’s documents in a central pool with easy\, secure access. Then you can build custom workflows\, as simple to intricate as you need\, that mirror your current processes to route documents across your entire organization in a timely\, accurate approach. Build the workflows that you need to get the job done! Register now for this 30-minute webinar to see an introductory look at this simple yet powerful digital workflow solution.
URL:https://unitedimaging.biz/event/march-docuware-webinar-series/
CATEGORIES:Docuware,Webinar
ATTACH;FMTTYPE=image/png:https://unitedimaging.biz/wp-content/uploads/2020/01/march-docuware-webinar.png
END:VEVENT
BEGIN:VEVENT
DTSTART;VALUE=DATE:20200226
DTEND;VALUE=DATE:20200228
DTSTAMP:20260424T135353
CREATED:20200128T010046Z
LAST-MODIFIED:20200224T191359Z
UID:35215-1582686000-1582772399@unitedimaging.biz
SUMMARY:February Docuware Webinar Series: Why You Need a Safe and Secure Document Archiving Solution
DESCRIPTION:Sign up for the February Docuware Webinar.\nA monthly series exploring the latest in Document Management Trends and Software. \nFebruary Webinar: Why You Need a Safe and Secure Document Archiving Solution. \nDocument Security Done Right: Protect and Share Documents Confidently with a Comprehensive Document Archiving Solution \nCompliance mandates are an ever-growing reality of doing business today: the new California Consumer Privacy Act went into effect last month and the global General Data Protection Regulation has been heavily enforced over the past two years. A serious document security policy is no longer a “we’ll get around to it” project for organizations; it’s now a necessity. Your first step is to find a best-fit\, top-of-the-line document management solution. With DocuWare’s secure online document storage\, you safeguard data with maximum protection\, share and work with documents safely\, and stay on top of compliance mandates. Work with confidence and ease knowing you have total business continuity in place. Register now for a 30-minute product webinar for an introductory demo of DocuWare. Can’t make it? Register anyway to get sent a recording. Picture this for your organization: • Store all documents in one central\, digital location with easy storage\, search\, and retrieval • Stay on top of document retention schedules – no more outdated documents floating around • Meet compliance such as HIPAA\, SOX\, GDPR\, and CCPA regulations • Keep business intelligence under wraps and only allow authorized users with access • Implement version management to keep track of document edits • Manage user access with audit trails to see who previously took actions on documents • Simplify audits and easily provide auditors relevant documents with a searchable browser \nWith DocuWare\, you enjoy: \n\nA secure\, central document pool for all documents regardless of source or format\nIncreased employee efficiency and productivity with instant access to information\nAutomated digital workflows to route and process documents across multiple departments\nFirst-class document compliance and fast response to audits\n\nCan’t make it?\nRegister anyway to get sent a recording. \nEnter “United Imaging” in the field “Enter Company Name of referring organization”\nReady to learn more now? \nContact United Imaging for a FREE Docuware Demo or more information.
URL:https://unitedimaging.biz/event/february-docuware-webinar/
CATEGORIES:Docuware,Webinar
ATTACH;FMTTYPE=image/png:https://unitedimaging.biz/wp-content/uploads/2020/01/ui-docuware-webinar.png
END:VEVENT
BEGIN:VEVENT
DTSTART;TZID=America/Los_Angeles:20200129T110000
DTEND;TZID=America/Los_Angeles:20200129T113000
DTSTAMP:20260424T135353
CREATED:20200128T005020Z
LAST-MODIFIED:20200128T005049Z
UID:35211-1580295600-1580297400@unitedimaging.biz
SUMMARY:January Docuware Webinar: 2020 Vision
DESCRIPTION:We’ve made it 2020\, the year of “perfect vision.“ Take a look around. Does your organization still use a slow\, stressful paper filing system and spend too much time searching for a specific document? In this new decade\, it’s time to simplify digital file storage and embrace becoming a paperless office. DocuWare\, a paperless document management solution\, enables you to securely and intelligently store your documents in a centralized database so you always know where to find and access documents with ease. On top of that\, its artificial intelligence and digital workflow tools empower you to process key documents easier and faster to get work done. Register now for this 30-minute webinar to see an introductory look at a perfect 2020 solution. \nCan’t make it? Register anyway to get sent a recording.  \nWith DocuWare\, you enjoy: \n\nA secure\, central document pool for all documents regardless of source or format\nIncreased employee efficiency and productivity with instant access to information\nAutomated digital workflows to route and process documents across multiple departments\nFirst-class document compliance and fast response to audits\n\nREGISTER \nContact United Imaging for a FREE Docuware Demo or more information.
URL:https://unitedimaging.biz/event/docuware-webinar-2020-vision/
CATEGORIES:Docuware,Webinar
ATTACH;FMTTYPE=image/jpeg:https://unitedimaging.biz/wp-content/uploads/2019/10/DocuWare-Blog-Image.jpg
END:VEVENT
END:VCALENDAR