BEGIN:VCALENDAR
VERSION:2.0
PRODID:-//United Imaging - ECPv6.15.20//NONSGML v1.0//EN
CALSCALE:GREGORIAN
METHOD:PUBLISH
X-ORIGINAL-URL:https://unitedimaging.biz
X-WR-CALDESC:Events for United Imaging
REFRESH-INTERVAL;VALUE=DURATION:PT1H
X-Robots-Tag:noindex
X-PUBLISHED-TTL:PT1H
BEGIN:VTIMEZONE
TZID:America/Los_Angeles
BEGIN:DAYLIGHT
TZOFFSETFROM:-0800
TZOFFSETTO:-0700
TZNAME:PDT
DTSTART:20180311T100000
END:DAYLIGHT
BEGIN:STANDARD
TZOFFSETFROM:-0700
TZOFFSETTO:-0800
TZNAME:PST
DTSTART:20181104T090000
END:STANDARD
BEGIN:DAYLIGHT
TZOFFSETFROM:-0800
TZOFFSETTO:-0700
TZNAME:PDT
DTSTART:20190310T100000
END:DAYLIGHT
BEGIN:STANDARD
TZOFFSETFROM:-0700
TZOFFSETTO:-0800
TZNAME:PST
DTSTART:20191103T090000
END:STANDARD
BEGIN:DAYLIGHT
TZOFFSETFROM:-0800
TZOFFSETTO:-0700
TZNAME:PDT
DTSTART:20200308T100000
END:DAYLIGHT
BEGIN:STANDARD
TZOFFSETFROM:-0700
TZOFFSETTO:-0800
TZNAME:PST
DTSTART:20201101T090000
END:STANDARD
BEGIN:DAYLIGHT
TZOFFSETFROM:-0800
TZOFFSETTO:-0700
TZNAME:PDT
DTSTART:20210314T100000
END:DAYLIGHT
BEGIN:STANDARD
TZOFFSETFROM:-0700
TZOFFSETTO:-0800
TZNAME:PST
DTSTART:20211107T090000
END:STANDARD
END:VTIMEZONE
BEGIN:VEVENT
DTSTART;VALUE=DATE:20200921
DTEND;VALUE=DATE:20200924
DTSTAMP:20260424T134907
CREATED:20191101T232115Z
LAST-MODIFIED:20200901T185104Z
UID:30548-1600657200-1600829999@unitedimaging.biz
SUMMARY:Los Angeles Business Council – Annual Sustainability Summit
DESCRIPTION:[vc_row][vc_column][vc_column_text] \n\nLos Angeles Business Council Annual Sustainability Summit\n\n\nAs California continues to lead the nation in combating climate change\, join our local business\, government and non-profit leaders at the Sustainability Summit to explore how to California is creating climate resilient economies and growing access to clean energy and water resource technologies. Sustainability Summit is a high-level convening of business\, government and nonprofit leaders in one of the most environmentally forward-thinking cities in the world. \n\n[/vc_column_text][vc_column_text] \n\n14th Annual Sustainability Summit\nIn light of the COVID-19 pandemic\, this year’s Sustainability Summit has been transformed into an interactive\, two-day event on Monday\, September 21st and Tuesday\, September 22nd. LABC is excited to host this special summit in partnership with USC’s Presidents Office\, the Sol Price School of Public Policy and the USC Schwarzenegger Institute. \n\n\n\n\n\n\n\n[/vc_column_text][/vc_column][/vc_row]
URL:https://unitedimaging.biz/event/los-angeles-business-council-annual-sustainability-summit/
CATEGORIES:Event,LABC,supporting community
ATTACH;FMTTYPE=image/jpeg:https://unitedimaging.biz/wp-content/uploads/2019/11/LABC_Sustainability-Summit-1-2-1-1.jpg
END:VEVENT
BEGIN:VEVENT
DTSTART;TZID=America/Los_Angeles:20200901T030000
DTEND;TZID=America/Los_Angeles:20200902T025959
DTSTAMP:20260424T134907
CREATED:20191102T000052Z
LAST-MODIFIED:20191104T171537Z
UID:30566-1598929200-1599015599@unitedimaging.biz
SUMMARY:Brokers Challenge
DESCRIPTION:TBD check back for date and time.
URL:https://unitedimaging.biz/event/brokers-challenge/
CATEGORIES:Event,supporting community
ATTACH;FMTTYPE=image/jpeg:https://unitedimaging.biz/wp-content/uploads/2019/11/42482977_345855262653997_4872015170332786688_n.jpg
END:VEVENT
BEGIN:VEVENT
DTSTART;TZID=America/Los_Angeles:20200901T030000
DTEND;TZID=America/Los_Angeles:20200902T025959
DTSTAMP:20260424T134907
CREATED:20191101T223932Z
LAST-MODIFIED:20191101T223932Z
UID:30535-1598929200-1599015599@unitedimaging.biz
SUMMARY:AIA Design Awards 2020 TBD
DESCRIPTION:
URL:https://unitedimaging.biz/event/aia-design-awards-2020-tbd/
CATEGORIES:Event
END:VEVENT
BEGIN:VEVENT
DTSTART;TZID=America/Los_Angeles:20200828T170000
DTEND;TZID=America/Los_Angeles:20200828T220000
DTSTAMP:20260424T134907
CREATED:20191101T223402Z
LAST-MODIFIED:20200407T020725Z
UID:30531-1598634000-1598652000@unitedimaging.biz
SUMMARY:IIDA Socal Calibre Design Awards
DESCRIPTION:Date: August 28th\, 2020 \nLocation: Beverly Hilton Hotel \nDesign competition – submissions will be accepted December 2\, 2019 – Jan. 24\, 2020. \nTickets and event sponsorship opens in January\, 2020. \nMore info coming soon! \nBeverly Hilton Hotel \n9876 Wilshire Blvd.\, Beverly Hills\, CA 90210
URL:https://unitedimaging.biz/event/iida-socal-calibre-design-awards/
CATEGORIES:Event,IIDA,supporting community
ATTACH;FMTTYPE=image/jpeg:https://unitedimaging.biz/wp-content/uploads/2019/11/CA2020_638px_CallForEntries.jpg
END:VEVENT
BEGIN:VEVENT
DTSTART;TZID=America/Los_Angeles:20200625T170000
DTEND;TZID=America/Los_Angeles:20200625T210000
DTSTAMP:20260424T134907
CREATED:20191101T235206Z
LAST-MODIFIED:20200120T185348Z
UID:30560-1593104400-1593118800@unitedimaging.biz
SUMMARY:LABC Architectural Awards
DESCRIPTION:An annual celebration of projects that embrace innovative design standards to enhance the way we live in Los Angeles.
URL:https://unitedimaging.biz/event/labc-architectural-awards/
CATEGORIES:Event,LABC,supporting community
ATTACH;FMTTYPE=image/jpeg:https://unitedimaging.biz/wp-content/uploads/2019/11/CFE-Logo.jpg
END:VEVENT
BEGIN:VEVENT
DTSTART;VALUE=DATE:20200608
DTEND;VALUE=DATE:20200612
DTSTAMP:20260424T134907
CREATED:20191101T235824Z
LAST-MODIFIED:20200506T204558Z
UID:30563-1591585200-1591844399@unitedimaging.biz
SUMMARY:Neoconnect 2020
DESCRIPTION:The world’s leading platform and most important event of the year for the commercial design industry celebrates its 52nd edition with the latest ideas\, products\, and experiences to inspire\, connect\, and engage. \nCanceled please check https://neocon.com/coronavirus \n 
URL:https://unitedimaging.biz/event/neocon-2020/
CATEGORIES:Event,Tradeshow
ATTACH;FMTTYPE=image/gif:https://unitedimaging.biz/wp-content/uploads/2013/06/neoconbanner1.gif
END:VEVENT
BEGIN:VEVENT
DTSTART;TZID=America/Los_Angeles:20200601T080000
DTEND;TZID=America/Los_Angeles:20200605T170000
DTSTAMP:20260424T134907
CREATED:20200116T174855Z
LAST-MODIFIED:20200117T210125Z
UID:34629-1590998400-1591376400@unitedimaging.biz
SUMMARY:Docuware VIP Customer Appreciation Week Winners Announced
DESCRIPTION:The DocuWare Customer Appreciation Week is a special week in June each year that we put aside to celebrate the DocuWare user community! \nGet excited! The next one will take place June 1-5\, 2020. \nEach day of this special week\, one DocuWare customer gets the VIP treatment. They have a great time receiving a gift tailored specifically for them\, along with a personalized award plaque. We’ll showcase the event on social media as well. \nIf you have a great story to tell\, we want to hear about it\n\nLet’s shine the spotlight on what organizations can accomplish with DocuWare. Enter for a chance to be celebrated during 2020’s Customer Appreciation Week. Be sure your organization uses DocuWare Cloud or DocuWare Version 7.0 or higher and has a current Maintenance & Support subscription in place. \nHere are some questions to help you develop your story: \n\nHas your organization achieved measurable business success with DocuWare\, and also significantly improved the daily work lives of your employees?\nAre you\, or does your office have\, a DocuWare power user that goes above and beyond\, really making the most of the solution and championing it throughout your organization and even local community?\nDo you believe your success can be smoothly adapted elsewhere and would like to inspire the DocuWare community with fresh new ideas on how to use the solution?\n\nEntry deadline: Submit your story by Monday\, March 2\, 2020 \nClick here to submit your nomination
URL:https://unitedimaging.biz/event/docuware-vip-customer-appreciation-week-winners-announced/
CATEGORIES:Event
ATTACH;FMTTYPE=image/jpeg:https://unitedimaging.biz/wp-content/uploads/2020/01/docuware-customer-appreciation.jpg
END:VEVENT
BEGIN:VEVENT
DTSTART;TZID=America/Los_Angeles:20200601T080000
DTEND;TZID=America/Los_Angeles:20200601T170000
DTSTAMP:20260424T134907
CREATED:20191101T223800Z
LAST-MODIFIED:20191101T223800Z
UID:30533-1590998400-1591030800@unitedimaging.biz
SUMMARY:AIA OC Artwalk
DESCRIPTION:TBD Check back for details
URL:https://unitedimaging.biz/event/aia-oc-artwalk/
CATEGORIES:Event
END:VEVENT
BEGIN:VEVENT
DTSTART;TZID=America/Los_Angeles:20200403T090000
DTEND;TZID=America/Los_Angeles:20200403T090000
DTSTAMP:20260424T134907
CREATED:20200330T195501Z
LAST-MODIFIED:20200330T224253Z
UID:37500-1585904400-1585904400@unitedimaging.biz
SUMMARY:How a Place Makes Us Feel\, Virtual CEU from Kimball
DESCRIPTION:How a Place Makes Us Feel\, Virtual CEU from Kimball\nFri\, Apr 3\, 2020\, 12:00 PM EDT \nKimball Will be hosting Virtual CEU’s throughout the month of April. \nKimball is pleased to offer both educational materials and specific trainging/classes to help expand your knowledge of factors influencing office furniture and the way people work. \nCEU credit – 1 hour Subject Code: 1. Theory & Creativity 4. Psychology Designation: Health\, Safety\, Welfare Learning Level: Intermediate \n\n\n\n\n\n\n\n\n\n\n\n\nAbout this Event\n\n\nCognitive scientists have learned a lot about how physical environments influence our mood and\, through our mood\, how we think and behave. Science-based findings can be applied in practice to develop places where people perform to their full potential and have other positive working experiences. Rigorous research effectively details how design can\, via mood\, improve collaboration with others\, concentration on solo work\, job satisfaction\, employee engagement\, and trust in employers and co-workers\, for example. This course translates cognitive science research that can be used in practice from “science-ease” into everyday language so it can\, in the economic context of efficient real estate management\, be utilized now and in the future to create places where people work well and feel good while doing so. \nLearning Objectives: \n\nUnderstand how environmental psychology research informs the psychology of space to affect moods.\nBecome familiar with how the power of design and sensory experiences affect mood and\, via mood\, employee performance\, job satisfaction\, engagement\, and trust in employers and coworkers.\nRecognize the design universals that optimize sensory experiences to encourage positive moods.\nBe able to integrate relevant science-based findings and real world concerns\, to support desired emotional experiences and boost human performance.\n\nThis course is approved through IDCEC for credit with IIDA\, ASID and IDC and is also AIA CES approved LU | HSW \nREGISTER\n\n\n\n\n\n\n\nDate And Time\n\nFri\, Apr 3\, 2020\, 12:00 PM EDT
URL:https://unitedimaging.biz/event/how-a-place-makes-us-feel-designing-in-moods-that-boost-human-performance/
CATEGORIES:Event,supporting community
ATTACH;FMTTYPE=image/jpeg:https://unitedimaging.biz/wp-content/uploads/2020/03/How-a-place-makes-us-feel-2.jpeg
END:VEVENT
BEGIN:VEVENT
DTSTART;VALUE=DATE:20200329
DTEND;VALUE=DATE:20200403
DTSTAMP:20260424T134907
CREATED:20200116T165849Z
LAST-MODIFIED:20200302T181250Z
UID:34622-1585450800-1585796399@unitedimaging.biz
SUMMARY:WELL Conference
DESCRIPTION:Taking place March 29 – April 1\, 2020\, in the beautiful landscape of Scottsdale\, Arizona\, The WELL Conference will bring together leaders\, visionaries and impassioned doers who believe better buildings\, vibrant communities and stronger organizations can help people thrive. \nCreated with your health in mind\, The WELL Conference will be a gathering like no other. Explore what you can expect on a typical day in Scottsdale: \n\nJumpstart your morning with wellness activities.\nParticipate in inspiring plenaries and education sessions designed to engage your mind and empower your career.\nConnect with friends and colleagues as you share camaraderie and community over farm-to-table meals.\nMeet face-to-face with leaders providing innovative products and solutions that are enabling a global culture of health.\nFind moments throughout the day to take a movement or meditation break.\nClose out your day with opportunities for celebration and reflection.
URL:https://unitedimaging.biz/event/well-conference/
CATEGORIES:Event,supporting community,Tradeshow
ATTACH;FMTTYPE=image/png:https://unitedimaging.biz/wp-content/uploads/2020/01/well-conference.png
END:VEVENT
BEGIN:VEVENT
DTSTART;VALUE=DATE:20200328
DTEND;VALUE=DATE:20200330
DTSTAMP:20260424T134907
CREATED:20191101T233816Z
LAST-MODIFIED:20200317T171659Z
UID:30551-1585364400-1585450799@unitedimaging.biz
SUMMARY:Heart of the City 5k Run | Update to be a virtual gathering.
DESCRIPTION:The safety and wellness of our community are our top priorities. Given the recent developments of COVID-19 California Hospital Medical Center will be transitioning this event to a virtual gathering.\nMore details to be announced. \n\nThe Need\nCalifornia Hospital Medical Center (CHMC) is making a difference each day by serving the needs of our ever growing community. A nonprofit community hospital founded in 1887\, CHMC has led the way to a healthier future for all who visit\, work\, or live downtown. Proceeds from this year’s event will enable CHMC to further its work as a center for health and wellness\, delivering exceptional care\, and improving the quality of life for all Angelenos. \nThe Opportunity\nBring your friends and family (and dog) and participate on Saturday\, March 30\, 2019 as you join over 3\,000 other runners and walkers to fill the street of downtown Los Angeles in support of CHMC. \nThis year\, 100% of the funds raised from this event will help build a state-of-the-art\, four-story patient care tower. The hospital needs space to expand critical departments\, including the only full-service trauma and emergency center in downtown and our neonatal intensive care unit (NICU)\, which cares for the tiniest\, most fragile newborns.  Your support will translate into life-saving care for our most vulnerable patients\, including babies born prematurely as well as children and adults of all ages facing a severe illness or injury.
URL:https://unitedimaging.biz/event/heart-of-the-city-5k-run/
CATEGORIES:Event,supporting community
ATTACH;FMTTYPE=image/jpeg:https://unitedimaging.biz/wp-content/uploads/2019/11/HOTC5K2018_204.jpg
END:VEVENT
BEGIN:VEVENT
DTSTART;VALUE=DATE:20200308
DTEND;VALUE=DATE:20200310
DTSTAMP:20260424T134907
CREATED:20200224T234027Z
LAST-MODIFIED:20200224T234042Z
UID:36407-1583636400-1583722799@unitedimaging.biz
SUMMARY:Happy International Women's Day
DESCRIPTION:Supporting Community. Diversity and Inclusion are Inherent in Our Sourcing Process. Are diversity and inclusion goals for your organization?\nUI\, has implemented a strategic initiative to increase Historically Underutilized Businesses (HUB) suppliers in sourcing the products we offer. This HUB Supplier Program was created to increase diverse supplier opportunities\, encourage participation and add qualified suppliers who meet our HUB and general supplier criteria so that these suppliers may potentially become suppliers of choice. \nWomen Business Enterprises (WBE): A business that is not less than 51 percent owned by one or more women\, or in the case of a publicly owned business\, no less than 51 percent of the stock must be owned by one or more women and management and daily operations must be controlled by one or more women. \nHUB Compliance: A supplier who was either certified by WBENC as a woman-owned business or by NMSDC as a minority-owned business or is affiliated with AbilityOne. \nFor more information on purchasing HUB products\, contact your account representative. \n#IWD2020
URL:https://unitedimaging.biz/event/happy-international-womens-day/
CATEGORIES:Event
ATTACH;FMTTYPE=image/jpeg:https://unitedimaging.biz/wp-content/uploads/2020/02/IWD-2020-equal.jpg
END:VEVENT
BEGIN:VEVENT
DTSTART;TZID=America/Los_Angeles:20200212T160000
DTEND;TZID=America/Los_Angeles:20200212T200000
DTSTAMP:20260424T134907
CREATED:20200211T212028Z
LAST-MODIFIED:20200226T233112Z
UID:35910-1581523200-1581537600@unitedimaging.biz
SUMMARY:Official SCALE 1:1 Brand Launch Party
DESCRIPTION:JOIN DeskMakers FOR THE OFFICIAL SCALE 1:1 BRAND LAUNCH PARTY \nWED / FEB 12TH / 2020 \n4:00PM – 8:00PM \nRODENBECK SHOWROOM\n700 SOUTH FLOWER STREET\nSUITE 760 / LOS ANGELES / 90017 \nGet to know DeskMakers’ newest brand and meet SCALE 1:1 designer David Winston. Stay for a sneak-peed at Ribbon\, DeskMakers’ latest collection designed by Henner Jahns. \nWhile you’re there\, enter our raffle for a chance to win the all-new Apple Airpods Pro!
URL:https://unitedimaging.biz/event/official-scale-11-brand-launch-party/
CATEGORIES:Event
ATTACH;FMTTYPE=image/jpeg:https://unitedimaging.biz/wp-content/uploads/2020/02/deskmakers-opening-party.jpg
END:VEVENT
BEGIN:VEVENT
DTSTART;TZID=America/Los_Angeles:20191203T170000
DTEND;TZID=America/Los_Angeles:20191203T200000
DTSTAMP:20260424T134907
CREATED:20191101T224515Z
LAST-MODIFIED:20191101T224515Z
UID:30537-1575392400-1575403200@unitedimaging.biz
SUMMARY:AIA OC Holiday Party
DESCRIPTION:
URL:https://unitedimaging.biz/event/aia-oc-holiday-party/
CATEGORIES:Event,Holidays,supporting community
END:VEVENT
BEGIN:VEVENT
DTSTART;TZID=America/Los_Angeles:20191122T080000
DTEND;TZID=America/Los_Angeles:20191122T140000
DTSTAMP:20260424T134907
CREATED:20191101T214717Z
LAST-MODIFIED:20191113T201446Z
UID:30497-1574409600-1574431200@unitedimaging.biz
SUMMARY:Mayoral Housing\, Transportation & Jobs Summit 2019
DESCRIPTION:Statewide Solutions for Housing & Homelessness. Join California’s prominent mayors for a Special Session discussing statewide solutions and best practices for addressing housing affordability and homelessness at our 2019 Summit event. \nThis annual event convenes leaders from all perspectives of the housing debate to address the housing crisis and its effect on employment and transportation in Los Angeles. The summit features panel discussions\, keynote speakers\, and academic research surrounding this complex issue. \nA summit focused on addressing the mounting affordable housing and congestion crisis and their effect on businesses and employment in the L.A. region.\nConfirmed Speakers \n\nThe Honorable Mark Ridley-Thomas\, Supervisor\, County of Los Angeles\nThe Honorable Eric Garcetti\, Mayor\, City of Los Angeles\nThe Honorable Libby Schaaf\, Mayor\, City of Oakland\nThe Honorable Darrell Steinberg\, Mayor\, City of Sacramento\nThe Honorable Paul Krekorian\, Councilman\, City of Los Angeles\nMartin Adams\, General Manager\, LADWP\nAntonio Bernardo\, Dean\, UCLA Anderson School of Management \nBrad Cox\, Senior Managing Director\, Trammell Crow Company; Chair\, LABC Institute\n\nSarah Dusseault\, Chair\, Los Angeles Homeless Services Authority (LAHSA)\nJason Elliott\, Chief Deputy Cabinet Secretary\, Office of Governor Gavin Newsom\n\nDavid Grunwald\, Senior Vice President\, LA Region\, National CORE\nGene Hale\, Chairman\, Greater Los Angeles African American Chamber of Commerce \nRob Jernigan\, Co-Regional Managing Principal\, Gensler Southwest Region\n George Kivork\, Senior Public Policy Manager\, Southern California\, Lyft\nChris Ko\, Director of Homeless Initiatevies\, United Way of Greater Los Angeles\n\nClaudette Moody\, Director\, Policy\, Strategy & Government Relations\, Southwest District\, WSP USA\nMark Morales\, President Emeritus\, Los Angeles Gay & Lesbian Chamber of Commerce\nDavid Nahai\, Partner\, Lewis Brisbois\, Bisgaard & Smith LLP\nNorman Pearlstine\, Executive Editor\, LA Times \nAvygail Sanchez\, Vice President\, Director of Political Affairs & Policy\, Parsons\nKathryn S. Schloessman\, President & CEO\, Los Angeles Sports & Entertainment Commission\n\nAnn Sewill\, Vice President\, Health & Housing\, California Community Foundation\n\nDoug Shoemaker\, President\, Mercy Housing California\nBarry Simmons\, Managing Director\, California Division Director for Consumer Banking & Wealth Management\, JPMorgan Chase & Co.\n\nStephen Traynor\, Chief Business Officer\, Federal Home Loan Bank of San Francisco \nJon Vein\, President\, LA Convention Center & Tourism Development Department Commission\n\nNadine Watt\, President\, Watt Companies; Chair\, LABC\nPhillip A. Washington\, CEO\, Metro \nBill Witte\, Chairman & CEO\, Related California\nJonathan Woetzel\, Senior Partner\, McKinsey Global Institute
URL:https://unitedimaging.biz/event/mayoral-housing-transportation-jobs-summit-2019/
CATEGORIES:Event
ATTACH;FMTTYPE=image/png:https://unitedimaging.biz/wp-content/uploads/2019/11/Slide45.png
END:VEVENT
BEGIN:VEVENT
DTSTART;TZID=America/Los_Angeles:20191114T170000
DTEND;TZID=America/Los_Angeles:20191114T190000
DTSTAMP:20260424T134907
CREATED:20191105T230656Z
LAST-MODIFIED:20191211T192624Z
UID:30712-1573750800-1573758000@unitedimaging.biz
SUMMARY:LAHq Annual Developer Panel | Developing for Greater Impact
DESCRIPTION:Los Angeles Headquarters Annual Developer Panel – DEVELOPING FOR GREATER IMPACT \nAs producers of 80-percent of global GDP\, cities are the primary economic and cultural engines of our time. That urbanizing activity\, spurring increased density and development\, comes with its own challenges. One of housing\, homelessness\, mobility\, connectivity\, climate\, infrastructural resilience\, among them. In the context of ever changing markets\, it becomes increasingly necessary to develop projects for both current and futures needs. We need to future-proof our cities\, their economies and cultures\, for success. \nJoin LAHq as we hear from leading local developers on how we’re collectively building Los Angeles towards a better tomorrow! \nModerator\nRoger Vincent\, Commercial Real Estate Staff Writer\, Los Angeles Times \nPanel\nJonathan Lange\, Vice President\, Boston Properties \nNancy Moses\, Senior Vice President\, Trammell Crow Company \nTyler Bibbins\, Project Manager\, Related Companies \nEdward Cook III\, Co-President\, McCarthy-Cook
URL:https://unitedimaging.biz/event/annual-developer-panel-developing-for-greater-impact/
CATEGORIES:Event
ATTACH;FMTTYPE=image/png:https://unitedimaging.biz/wp-content/uploads/2019/11/Annual-Developer-Panel.png
END:VEVENT
BEGIN:VEVENT
DTSTART;TZID=America/Los_Angeles:20191107T180000
DTEND;TZID=America/Los_Angeles:20191107T220000
DTSTAMP:20260424T134907
CREATED:20191101T215619Z
LAST-MODIFIED:20191101T215621Z
UID:30504-1573149600-1573164000@unitedimaging.biz
SUMMARY:Weingart Gala
DESCRIPTION:Join us for the Weingart Center’s Annual Fall Gala at the Beautiful Vibiana in Downtown Los Angeles Featuring Great Music\, Cocktails & Amazing Food from Chef Neal Fraser. This year we will honor two amazing champions: \nTim McFlynn\, who was one of the original founders of the Weingart Center in the 1970s\, will receive our Visionary Award.  Kevin de León\, President por Tempore Emeritus\, will receive our Changemaker Award for his efforts towards eradicating homelessness. \nProceeds from this event will provide much need support for the Transitional Housing\, Job Assistance\, Counseling and Mental Healthcare Services for thousands of people throughout Los Angeles who are experiencing homelessness. It costs more to leave someone on the street than it does to help them transition back into society. By working together we can help individuals regain their confidence and become self-sufficient and break the cycle of homelessness.
URL:https://unitedimaging.biz/event/weingart-gala/
CATEGORIES:Event,supporting community
ATTACH;FMTTYPE=image/png:https://unitedimaging.biz/wp-content/uploads/2019/11/Slide4.png
END:VEVENT
BEGIN:VEVENT
DTSTART;VALUE=DATE:20191103
DTEND;VALUE=DATE:20191107
DTSTAMP:20260424T134907
CREATED:20191101T214001Z
LAST-MODIFIED:20191101T214002Z
UID:30492-1572750000-1573009199@unitedimaging.biz
SUMMARY:Kimball Health at the Healthcare Design Expo
DESCRIPTION:Join Kimball Health Re-imaging Healthcare at the Healthcare Design Expo & Conference 2019 – New Orleans\, November 3rd-5th at Space 911
URL:https://unitedimaging.biz/event/kimball-health-at-the-healthcare-design-expo/
CATEGORIES:Event,Tradeshow
ATTACH;FMTTYPE=image/gif:https://unitedimaging.biz/wp-content/uploads/2019/11/Healthcare-Design-Expo-Conference-New-Orleans.gif
END:VEVENT
END:VCALENDAR